BEGIN:VCALENDAR
VERSION:2.0
PRODID:-//wp-events-plugin.com//7.2.3.1//EN
BEGIN:VEVENT
UID:453@shooting-stars-fuerth.de
DTSTART:20250116T190000Z
DTEND:20250116T203000Z
DTSTAMP:20250114T213957Z
URL:https://shooting-stars-fuerth.de/events/ms-class-2-2025-01-16/
SUMMARY:kein Tanz (MS-Class entfällt wegen Besuch der Clubjubiläums Danci
 ng Trouts\, Forchheim)
DESCRIPTION:
ATTACH;FMTTYPE=image/jpeg:https://shooting-stars-fuerth.de/wp-content/uplo
 ads/2023/03/MSC.jpg
CATEGORIES:Mainstream Class
END:VEVENT
END:VCALENDAR