BEGIN:VCALENDAR
VERSION:2.0
PRODID:-//wp-events-plugin.com//7.2.3.1//EN
BEGIN:VEVENT
UID:69@shooting-stars-fuerth.de
DTSTART:20230613T191500Z
DTEND:20230613T213000Z
DTSTAMP:20230531T071921Z
URL:https://shooting-stars-fuerth.de/events/plus-clubabend-2-2023-06-13/
SUMMARY:KEIN !! Plus-Clubabend wegen Sp. Clubnight der "Dancing Trouts"
DESCRIPTION:Der Plus-Clubabend entfällt wegen der Special Clubnight der "D
 ancing Trouts" in Forchheim!!!!
ATTACH;FMTTYPE=image/jpeg:https://shooting-stars-fuerth.de/wp-content/uplo
 ads/2023/03/entfaellt.png
CATEGORIES:Änderung,Plus Clubabend
LOCATION:FSG\, Dahlienstraße 21\, 90768 Fürth\, Bayern\, 90768\, Deutschl
 and
X-APPLE-STRUCTURED-LOCATION;VALUE=URI;X-ADDRESS=Dahlienstraße 21\, 90768 F
 ürth\, Bayern\, 90768\, Deutschland;X-APPLE-RADIUS=100;X-TITLE=FSG:geo:0,
 0
END:VEVENT
END:VCALENDAR