BEGIN:VCALENDAR
VERSION:2.0
PRODID:-//wp-events-plugin.com//7.2.3.1//EN
BEGIN:VEVENT
UID:233@shooting-stars-fuerth.de
DTSTART:20240820T191500Z
DTEND:20240820T213000Z
DTSTAMP:20240730T063916Z
URL:https://shooting-stars-fuerth.de/events/plus-clubabend-6-2024-08-20/
SUMMARY:Plus Clubabend
DESCRIPTION:Plus Clubabend (Doorprice)\nBitte Teilnahme eintragen: 
ATTACH;FMTTYPE=image/jpeg:https://shooting-stars-fuerth.de/wp-content/uplo
 ads/2023/03/Plus.jpg
CATEGORIES:Plus Clubabend
LOCATION:FSG\, Dahlienstraße 21\, 90768 Fürth\, Bayern\, 90768\, Deutschl
 and
X-APPLE-STRUCTURED-LOCATION;VALUE=URI;X-ADDRESS=Dahlienstraße 21\, 90768 F
 ürth\, Bayern\, 90768\, Deutschland;X-APPLE-RADIUS=100;X-TITLE=FSG:geo:0,
 0
END:VEVENT
END:VCALENDAR