BEGIN:VCALENDAR
VERSION:2.0
PRODID:-//wp-events-plugin.com//7.2.3.1//EN
BEGIN:VEVENT
UID:71@shooting-stars-fuerth.de
DTSTART:20230415T140000Z
DTEND:20230415T190000Z
DTSTAMP:20230316T124535Z
URL:https://shooting-stars-fuerth.de/events/workshop-zirndorf/
SUMMARY:Workshop Zirndorf
DESCRIPTION:MS-Workshop mit Jürgen Weißenborn
ATTACH;FMTTYPE=image/jpeg:https://shooting-stars-fuerth.de/wp-content/uplo
 ads/2023/03/WS-Zdf_230415.jpg
CATEGORIES:Workshop
END:VEVENT
END:VCALENDAR